BEGIN:VCALENDAR
VERSION:2.0
PRODID:Park City, UT Calendar Creator
METHOD:PUBLISH
BEGIN:VEVENT
DTSTAMP:20200305T212425
DTSTART:20200810T000000
DTEND:20200814T235900
SUMMARY:Basic Skating Camp
DESCRIPTION:<h2 style="text-align: center;">&nbsp;<a href="https://parkcityice.maxgalaxy.net/BrowseActivities.aspx" target="_blank">Register Today!</a></h2><p style="text-align: center;"></p>
X-ALT-DESC;FMTTYPE=text/html:<h2 style="text-align: center;">&nbsp;<a href="https://parkcityice.maxgalaxy.net/BrowseActivities.aspx" target="_blank">Register Today!</a></h2><p style="text-align: center;"></p>
LOCATION:Park City Ice Arena\, 600 Gillmor Way Park City\, Utah 84060
CLASS:PUBLIC
END:VEVENT
END:VCALENDAR
