BEGIN:VCALENDAR
VERSION:2.0
PRODID:Park City, UT Calendar Creator
METHOD:PUBLISH
BEGIN:VEVENT
DTSTAMP:20200825T141053
DTSTART:20200821T120000
DTEND:20200821T130000
SUMMARY:PL-20-04560 Treasure Hill Trails and Trail head Improvements Admin CUP Public Review
DESCRIPTION:<a href="https://parkcity.gov/home/showpublisheddocument/68990/637339611637600000" target="_blank">PL-20-04560 Treasure Hill Trails - Admin. CUP Final Action Letter With Exhibits</a>
X-ALT-DESC;FMTTYPE=text/html:<a href="https://parkcity.gov/home/showpublisheddocument/68990/637339611637600000" target="_blank">PL-20-04560 Treasure Hill Trails - Admin. CUP Final Action Letter With Exhibits</a>
LOCATION:
CLASS:PUBLIC
END:VEVENT
END:VCALENDAR
