BEGIN:VCALENDAR
VERSION:2.0
PRODID:Park City, UT Calendar Creator
METHOD:PUBLISH
BEGIN:VEVENT
DTSTAMP:20200914T165218
DTSTART:20200924T120000
DTEND:20200924T130000
SUMMARY:Planning Department Administrative Hearing
DESCRIPTION:<a href="https://d3n9y02raazwpg.cloudfront.net/parkcity/b057940b-f6ba-11ea-b6a9-0050569183fa-c4068590-9596-4beb-bbf4-f1687d834ed4-1600123683.pdf" target="_blank">Administrative Hearing Packet&nbsp;</a>
X-ALT-DESC;FMTTYPE=text/html:<a href="https://d3n9y02raazwpg.cloudfront.net/parkcity/b057940b-f6ba-11ea-b6a9-0050569183fa-c4068590-9596-4beb-bbf4-f1687d834ed4-1600123683.pdf" target="_blank">Administrative Hearing Packet&nbsp;</a>
LOCATION:
CLASS:PUBLIC
END:VEVENT
END:VCALENDAR
