BEGIN:VCALENDAR
VERSION:2.0
PRODID:Park City, UT Calendar Creator
METHOD:PUBLISH
BEGIN:VEVENT
DTSTAMP:20200915T170113
DTSTART:20200916T170000
DTEND:20200916T173000
SUMMARY:Historic Preservation Board Site Visit
DESCRIPTION:<a href="https://parkcity.gov/home/showpublisheddocument/69072/637357860525470000" target="_blank">HPB Legal Notice 09.16.2020</a>
X-ALT-DESC;FMTTYPE=text/html:<a href="https://parkcity.gov/home/showpublisheddocument/69072/637357860525470000" target="_blank">HPB Legal Notice 09.16.2020</a>
LOCATION:
CLASS:PUBLIC
END:VEVENT
END:VCALENDAR
