BEGIN:VCALENDAR
VERSION:2.0
PRODID:Park City, UT Calendar Creator
METHOD:PUBLISH
BEGIN:VEVENT
DTSTAMP:20201001T120651
DTSTART:20201002T130000
DTEND:20201002T140000
SUMMARY:UAV Flight
DESCRIPTION:<p>Location: Three Kings Water Treatment Plant</p><p>Duration: 30 minutes</p><p>Contact: Drone@parkcity.org</p>
X-ALT-DESC;FMTTYPE=text/html:<p>Location: Three Kings Water Treatment Plant</p><p>Duration: 30 minutes</p><p>Contact: Drone@parkcity.org</p>
LOCATION:
CLASS:PUBLIC
END:VEVENT
END:VCALENDAR
