BEGIN:VCALENDAR
VERSION:2.0
PRODID:Park City, UT Calendar Creator
METHOD:PUBLISH
BEGIN:VEVENT
DTSTAMP:20201009T162604
DTSTART:20201012T120000
DTEND:20201012T130000
SUMMARY:Planning Department Administrative Hearing
DESCRIPTION:<p><a href="https://parkcity.gov/home/showpublisheddocument/69164/637375129019630000" target="_blank">10.2.20 Public Notice Posted</a></p><p><a href="https://d3n9y02raazwpg.cloudfront.net/parkcity/a9f5c006-075a-11eb-80dd-0050569183fa-c4068590-9596-4beb-bbf4-f1687d834ed4-1602282128.pdf" target="_blank">Administrative Hearing Packet&nbsp;</a></p>
X-ALT-DESC;FMTTYPE=text/html:<p><a href="https://parkcity.gov/home/showpublisheddocument/69164/637375129019630000" target="_blank">10.2.20 Public Notice Posted</a></p><p><a href="https://d3n9y02raazwpg.cloudfront.net/parkcity/a9f5c006-075a-11eb-80dd-0050569183fa-c4068590-9596-4beb-bbf4-f1687d834ed4-1602282128.pdf" target="_blank">Administrative Hearing Packet&nbsp;</a></p>
LOCATION:
CLASS:PUBLIC
END:VEVENT
END:VCALENDAR
