BEGIN:VCALENDAR
VERSION:2.0
PRODID:Park City, UT Calendar Creator
METHOD:PUBLISH
BEGIN:VEVENT
DTSTAMP:20201103T162458
DTSTART:20201022T120000
DTEND:20201022T130000
SUMMARY:Planning Department Administrative Hearing PL-20-04645 and PL-20-04665
DESCRIPTION:<p><a href="https://d3n9y02raazwpg.cloudfront.net/parkcity/15a40f0a-0a4b-11eb-80dd-0050569183fa-498f0572-cec6-4358-a08d-4ae1e1ac1484-1602543637.pdf" target="_blank">PL-20-04645 7839 Hawk Court Admin CUP (beginning on page 1)&nbsp;</a></p><p><a href="https://d3n9y02raazwpg.cloudfront.net/parkcity/15a40f0a-0a4b-11eb-80dd-0050569183fa-498f0572-cec6-4358-a08d-4ae1e1ac1484-1602543637.pdf" target="_blank">PL-20-04665 2810 Telemark Drive Admin CUP (beginning on page 6)</a></p><p>&nbsp;</p><p><a href="https://parkcity.gov/home/showpublisheddocument/69280/637400174387370000" target="_blank">PL-20-04645 7839 Hawk Court Admin CUP Final Action Letter and Exhibits</a></p>
X-ALT-DESC;FMTTYPE=text/html:<p><a href="https://d3n9y02raazwpg.cloudfront.net/parkcity/15a40f0a-0a4b-11eb-80dd-0050569183fa-498f0572-cec6-4358-a08d-4ae1e1ac1484-1602543637.pdf" target="_blank">PL-20-04645 7839 Hawk Court Admin CUP (beginning on page 1)&nbsp;</a></p><p><a href="https://d3n9y02raazwpg.cloudfront.net/parkcity/15a40f0a-0a4b-11eb-80dd-0050569183fa-498f0572-cec6-4358-a08d-4ae1e1ac1484-1602543637.pdf" target="_blank">PL-20-04665 2810 Telemark Drive Admin CUP (beginning on page 6)</a></p><p>&nbsp;</p><p><a href="https://parkcity.gov/home/showpublisheddocument/69280/637400174387370000" target="_blank">PL-20-04645 7839 Hawk Court Admin CUP Final Action Letter and Exhibits</a></p>
LOCATION:
CLASS:PUBLIC
END:VEVENT
END:VCALENDAR
