BEGIN:VCALENDAR
VERSION:2.0
PRODID:Park City, UT Calendar Creator
METHOD:PUBLISH
BEGIN:VEVENT
DTSTAMP:20201015T130329
DTSTART:20201030T110000
DTEND:20201030T115900
SUMMARY:Planning Administrative Hearing for Historic District Design Review - PL-20-04656 1118 Lowell Avenue
DESCRIPTION:<a href="https://d3n9y02raazwpg.cloudfront.net/parkcity/c239783e-0f16-11eb-80dd-0050569183fa-b7592d8e-6588-4c32-b774-648fd075c398-1602788531.pdf" target="_blank">Agenda and Packet</a>
X-ALT-DESC;FMTTYPE=text/html:<a href="https://d3n9y02raazwpg.cloudfront.net/parkcity/c239783e-0f16-11eb-80dd-0050569183fa-b7592d8e-6588-4c32-b774-648fd075c398-1602788531.pdf" target="_blank">Agenda and Packet</a>
LOCATION:
CLASS:PUBLIC
END:VEVENT
END:VCALENDAR
