BEGIN:VCALENDAR
VERSION:2.0
PRODID:Park City, UT Calendar Creator
METHOD:PUBLISH
BEGIN:VEVENT
DTSTAMP:20201022T152713
DTSTART:20201022T180000
DTEND:20201022T235900
SUMMARY:Dark Sky Lighting Land Management Code Amendments Community Discussion 1
DESCRIPTION:<p>See more details about Dark Sky Code Amendments <a href="https://engageparkcity.org/dark-sky" target="_blank">here</a>. This will be a meeting open to the public, giving the opportunity for community members to ask staff questions and learn more about the proposed code changes. Please register through the Engage Park City <a href="https://engageparkcity.org/dark-sky/widgets/23625/faqs#3844" target="_blank">FAQ page</a> in advance, as it is required to attend. We hope to see you there!&nbsp;</p><p>&nbsp;</p>
X-ALT-DESC;FMTTYPE=text/html:<p>See more details about Dark Sky Code Amendments <a href="https://engageparkcity.org/dark-sky" target="_blank">here</a>. This will be a meeting open to the public, giving the opportunity for community members to ask staff questions and learn more about the proposed code changes. Please register through the Engage Park City <a href="https://engageparkcity.org/dark-sky/widgets/23625/faqs#3844" target="_blank">FAQ page</a> in advance, as it is required to attend. We hope to see you there!&nbsp;</p><p>&nbsp;</p>
LOCATION:
CLASS:PUBLIC
END:VEVENT
END:VCALENDAR
