BEGIN:VCALENDAR
VERSION:2.0
PRODID:Park City, UT Calendar Creator
METHOD:PUBLISH
BEGIN:VEVENT
DTSTAMP:20201214T122705
DTSTART:20201118T173000
DTEND:20201118T213000
SUMMARY:Planning Commission Meeting
DESCRIPTION:<p><a href="https://parkcity.gov/home/showpublisheddocument/69295/637402563433830000" target="_blank">PC Legal Notice 11.18.2020</a><br><a href="https://granicus_production_attachments.s3.amazonaws.com/parkcity/b2bfb99ccd2333d6d6dab310a260353f0.pdf" target="_blank">PC Agenda 11.18.2020</a><br><a href="https://d3n9y02raazwpg.cloudfront.net/parkcity/7ba9b487-1a2f-11eb-a4b6-0050569183fa-c4068590-9596-4beb-bbf4-f1687d834ed4-1605298328.pdf" target="_blank">PC Packet 11.18.2020</a><br><a href="https://parkcity.granicus.com/DocumentViewer.php?file=parkcity_3d37ce162c428e08cbc863c420ea649c.pdf&amp;view=1" target="_blank">PC Minutes 11.18.2020</a></p><h3><b>How to Watch, Listen, and Submit Public Comment Virtually:</b></h3><ul type="disc">    <li>Listen | Watch | Submit&nbsp;<a href="https://parkcity.granicusideas.com/meetings/625-planning-commission" target="_blank">eComment</a>: Details <a href="https://www.parkcity.org/government/city-council/city-council-meetings/current-public-meeting-info-listen-live" target="_blank">here</a> (Watch and Listen Live link is activated at the start of the meeting<i>)<br>    *Advance&nbsp;<a href="https://parkcity.granicusideas.com/users/sign_up">eComment registration</a>&nbsp;required. Once registered, you should receive a confirmation email. Using Firefox or Microsoft Edge browsers to register is recommended.<br>    <br>    </i></li>    <li>Listen | Watch | Comment:&nbsp;<a href="https://us02web.zoom.us/j/83319330321" target="_blank">Zoom Webinar</a>&nbsp;(please log in using the Zoom app to submit comment)</li></ul><p>To comment virtually, raise your hand on Zoom. Written comments submitted before or during the meeting will be entered into the public record, but not read aloud.&nbsp;<b>Viewers who wish to provide public comment must sign in using their full names.&nbsp;Anonymous comments will not be accepted.</b></p><p>Please contact&nbsp;<a href="mailto:&#106;&#101;&#115;&#115;&#105;&#99;&#97;&#46;&#110;&#101;&#108;&#115;&#111;&#110;&#64;&#112;&#97;&#114;&#107;&#99;&#105;&#116;&#121;&#46;&#111;&#114;&#103;">jessica.nelson@parkcity.org</a>&nbsp;for more information.</p>
X-ALT-DESC;FMTTYPE=text/html:<p><a href="https://parkcity.gov/home/showpublisheddocument/69295/637402563433830000" target="_blank">PC Legal Notice 11.18.2020</a><br><a href="https://granicus_production_attachments.s3.amazonaws.com/parkcity/b2bfb99ccd2333d6d6dab310a260353f0.pdf" target="_blank">PC Agenda 11.18.2020</a><br><a href="https://d3n9y02raazwpg.cloudfront.net/parkcity/7ba9b487-1a2f-11eb-a4b6-0050569183fa-c4068590-9596-4beb-bbf4-f1687d834ed4-1605298328.pdf" target="_blank">PC Packet 11.18.2020</a><br><a href="https://parkcity.granicus.com/DocumentViewer.php?file=parkcity_3d37ce162c428e08cbc863c420ea649c.pdf&amp;view=1" target="_blank">PC Minutes 11.18.2020</a></p><h3><b>How to Watch, Listen, and Submit Public Comment Virtually:</b></h3><ul type="disc">    <li>Listen | Watch | Submit&nbsp;<a href="https://parkcity.granicusideas.com/meetings/625-planning-commission" target="_blank">eComment</a>: Details <a href="https://www.parkcity.org/government/city-council/city-council-meetings/current-public-meeting-info-listen-live" target="_blank">here</a> (Watch and Listen Live link is activated at the start of the meeting<i>)<br>    *Advance&nbsp;<a href="https://parkcity.granicusideas.com/users/sign_up">eComment registration</a>&nbsp;required. Once registered, you should receive a confirmation email. Using Firefox or Microsoft Edge browsers to register is recommended.<br>    <br>    </i></li>    <li>Listen | Watch | Comment:&nbsp;<a href="https://us02web.zoom.us/j/83319330321" target="_blank">Zoom Webinar</a>&nbsp;(please log in using the Zoom app to submit comment)</li></ul><p>To comment virtually, raise your hand on Zoom. Written comments submitted before or during the meeting will be entered into the public record, but not read aloud.&nbsp;<b>Viewers who wish to provide public comment must sign in using their full names.&nbsp;Anonymous comments will not be accepted.</b></p><p>Please contact&nbsp;<a href="mailto:&#106;&#101;&#115;&#115;&#105;&#99;&#97;&#46;&#110;&#101;&#108;&#115;&#111;&#110;&#64;&#112;&#97;&#114;&#107;&#99;&#105;&#116;&#121;&#46;&#111;&#114;&#103;">jessica.nelson@parkcity.org</a>&nbsp;for more information.</p>
LOCATION:
CLASS:PUBLIC
END:VEVENT
END:VCALENDAR
