BEGIN:VCALENDAR
VERSION:2.0
PRODID:Park City, UT Calendar Creator
METHOD:PUBLISH
BEGIN:VEVENT
DTSTAMP:20201103T155644
DTSTART:20201103T170000
DTEND:20201103T180000
SUMMARY:HPB Site Visit
DESCRIPTION:<a href="https://parkcity.gov/home/showpublisheddocument/69276/637400156392200000" target="_blank">HPB Legal Notice 11.03.20</a>
X-ALT-DESC;FMTTYPE=text/html:<a href="https://parkcity.gov/home/showpublisheddocument/69276/637400156392200000" target="_blank">HPB Legal Notice 11.03.20</a>
LOCATION:
CLASS:PUBLIC
END:VEVENT
END:VCALENDAR
