BEGIN:VCALENDAR
VERSION:2.0
PRODID:Park City, UT Calendar Creator
METHOD:PUBLISH
BEGIN:VEVENT
DTSTAMP:20201209T162520
DTSTART:20201209T140000
DTEND:20201209T150000
SUMMARY:UAV Flight
DESCRIPTION:<p>Location: 3 Kings Water Treatment Plant</p><p>Duration: 1hr</p><p>Contact: Drone@parkcity.org</p>
X-ALT-DESC;FMTTYPE=text/html:<p>Location: 3 Kings Water Treatment Plant</p><p>Duration: 1hr</p><p>Contact: Drone@parkcity.org</p>
LOCATION:
CLASS:PUBLIC
END:VEVENT
END:VCALENDAR
