BEGIN:VCALENDAR
VERSION:2.0
PRODID:Park City, UT Calendar Creator
METHOD:PUBLISH
BEGIN:VEVENT
DTSTAMP:20210212T135618
DTSTART:20201215T180000
DTEND:20201215T183000
SUMMARY:Board of Adjustment
DESCRIPTION:<a href="https://parkcity.gov/home/showpublisheddocument/69494/637432943449270000" target="_blank">BOA Legal Notice 12.15.2020</a><br><a href="https://granicus_production_attachments.s3.amazonaws.com/parkcity/d003018483fe6300a0e0ab7b093030110.pdf" target="_blank">BOA Agenda 12.15.2020</a><br><a href="https://d3n9y02raazwpg.cloudfront.net/parkcity/e76d5fc1-3bce-11eb-bc32-0050569183fa-c4068590-9596-4beb-bbf4-f1687d834ed4-1607723576.pdf" target="_blank">BOA Packet 12.15.2020</a><br><a href="https://parkcity.granicus.com/DocumentViewer.php?file=parkcity_684dac260deb4b4d4bd91e3b7da23a43.pdf&amp;view=1" target="_blank">BOA Minutes 02.15.2020</a>
X-ALT-DESC;FMTTYPE=text/html:<a href="https://parkcity.gov/home/showpublisheddocument/69494/637432943449270000" target="_blank">BOA Legal Notice 12.15.2020</a><br><a href="https://granicus_production_attachments.s3.amazonaws.com/parkcity/d003018483fe6300a0e0ab7b093030110.pdf" target="_blank">BOA Agenda 12.15.2020</a><br><a href="https://d3n9y02raazwpg.cloudfront.net/parkcity/e76d5fc1-3bce-11eb-bc32-0050569183fa-c4068590-9596-4beb-bbf4-f1687d834ed4-1607723576.pdf" target="_blank">BOA Packet 12.15.2020</a><br><a href="https://parkcity.granicus.com/DocumentViewer.php?file=parkcity_684dac260deb4b4d4bd91e3b7da23a43.pdf&amp;view=1" target="_blank">BOA Minutes 02.15.2020</a>
LOCATION:
CLASS:PUBLIC
END:VEVENT
END:VCALENDAR
