BEGIN:VCALENDAR
VERSION:2.0
PRODID:Park City, UT Calendar Creator
METHOD:PUBLISH
BEGIN:VEVENT
DTSTAMP:20201215T114317
DTSTART:20201215T140000
DTEND:20201215T150000
SUMMARY:UAV Flight
DESCRIPTION:<p>Duration: 1 Hr</p><p>Location: 3 Kings Water Treatment Plant</p><p>Contact: Drone@parkcity.org</p>
X-ALT-DESC;FMTTYPE=text/html:<p>Duration: 1 Hr</p><p>Location: 3 Kings Water Treatment Plant</p><p>Contact: Drone@parkcity.org</p>
LOCATION:
CLASS:PUBLIC
END:VEVENT
END:VCALENDAR
