BEGIN:VCALENDAR
VERSION:2.0
PRODID:Park City, UT Calendar Creator
METHOD:PUBLISH
BEGIN:VEVENT
DTSTAMP:20201221T124426
DTSTART:20201228T120000
DTEND:20201228T130000
SUMMARY:Planning Department Administrative Hearing PL-20-04698
DESCRIPTION:<p><a href="https://parkcity.gov/home/showpublisheddocument/69498/637438268472530000" target="_blank">Legal Notice 12.17.20</a></p><p><a href="https://d3n9y02raazwpg.cloudfront.net/parkcity/0ee45ca5-3fcb-11eb-bc32-0050569183fa-498f0572-cec6-4358-a08d-4ae1e1ac1484-1608579400.pdf" target="_blank">Hearing Memo and Project Proposal</a></p>
X-ALT-DESC;FMTTYPE=text/html:<p><a href="https://parkcity.gov/home/showpublisheddocument/69498/637438268472530000" target="_blank">Legal Notice 12.17.20</a></p><p><a href="https://d3n9y02raazwpg.cloudfront.net/parkcity/0ee45ca5-3fcb-11eb-bc32-0050569183fa-498f0572-cec6-4358-a08d-4ae1e1ac1484-1608579400.pdf" target="_blank">Hearing Memo and Project Proposal</a></p>
LOCATION:
CLASS:PUBLIC
END:VEVENT
END:VCALENDAR
