BEGIN:VCALENDAR
VERSION:2.0
PRODID:Park City, UT Calendar Creator
METHOD:PUBLISH
BEGIN:VEVENT
DTSTAMP:20201221T103411
DTSTART:20201221T130000
DTEND:20201221T140000
SUMMARY:UAV Flight
DESCRIPTION:<p>Location: 3 Kings Water Treatment Plant</p><p>Duration: 1 hr</p><p>Contact: Drone@parkcity.org</p>
X-ALT-DESC;FMTTYPE=text/html:<p>Location: 3 Kings Water Treatment Plant</p><p>Duration: 1 hr</p><p>Contact: Drone@parkcity.org</p>
LOCATION:
CLASS:PUBLIC
END:VEVENT
END:VCALENDAR
