BEGIN:VCALENDAR
VERSION:2.0
PRODID:Park City, UT Calendar Creator
METHOD:PUBLISH
BEGIN:VEVENT
DTSTAMP:20210914T132541
DTSTART:20210922T170000
DTEND:20210922T183000
SUMMARY:Fall Projects Open House
DESCRIPTION:<p direction-ltr="" align-center=""><h1 direction-ltr="" align-center="">Fall Projects Open House</h1></p><h4 direction-ltr="" align-center="">Wednesday, September 22 | 5:00-6:30 p.m.<font> | Park City Library Patio</font></h4><p _rdeditor_exists="1">&nbsp;</p><p direction-ltr="" align-center="">Join City Staff for our 2021 Fall Projects Open House on the Park City Library Patio with live music, refreshments, and Rec Trailer fun! </p><p direction-ltr="" align-center="">This will be an outdoor, in-person event to celebrate the change of seasons, meet new City staff, and to learn about the City’s current, ongoing, and future projects.</p><p direction-ltr="" align-center=""><em><strong>Masks are strongly encouraged.</strong></em></p><p direction-ltr="" align-center="">Specific departments and projects will include Special Events, Transportation, Building, Police, Recreation, and more!</p><ul></ul>    <ul></ul>        <p>For more information, please call 435.615.5189</p>        <p>        <em>Si necesita ayuda en espanol, por favor llame a Michelle Kellogg a 435.615.5007</em></p>        <p><em>&nbsp;</em></p>        <p><em>Pursuant to the Americans with Disabilities Act, individuals needing special accommodations during the event should contact Linda Jager at 435.615.5189 or <a href="mailto:&#108;&#105;&#110;&#100;&#97;&#46;&#106;&#97;&#103;&#101;&#114;&#64;&#112;&#97;&#114;&#107;&#99;&#105;&#116;&#121;&#46;&#111;&#114;&#103;">linda.jager@parkcity.org</a> at least 24 hours prior to the event.</em></p>        <br>
X-ALT-DESC;FMTTYPE=text/html:<p direction-ltr="" align-center=""><h1 direction-ltr="" align-center="">Fall Projects Open House</h1></p><h4 direction-ltr="" align-center="">Wednesday, September 22 | 5:00-6:30 p.m.<font> | Park City Library Patio</font></h4><p _rdeditor_exists="1">&nbsp;</p><p direction-ltr="" align-center="">Join City Staff for our 2021 Fall Projects Open House on the Park City Library Patio with live music, refreshments, and Rec Trailer fun! </p><p direction-ltr="" align-center="">This will be an outdoor, in-person event to celebrate the change of seasons, meet new City staff, and to learn about the City’s current, ongoing, and future projects.</p><p direction-ltr="" align-center=""><em><strong>Masks are strongly encouraged.</strong></em></p><p direction-ltr="" align-center="">Specific departments and projects will include Special Events, Transportation, Building, Police, Recreation, and more!</p><ul></ul>    <ul></ul>        <p>For more information, please call 435.615.5189</p>        <p>        <em>Si necesita ayuda en espanol, por favor llame a Michelle Kellogg a 435.615.5007</em></p>        <p><em>&nbsp;</em></p>        <p><em>Pursuant to the Americans with Disabilities Act, individuals needing special accommodations during the event should contact Linda Jager at 435.615.5189 or <a href="mailto:&#108;&#105;&#110;&#100;&#97;&#46;&#106;&#97;&#103;&#101;&#114;&#64;&#112;&#97;&#114;&#107;&#99;&#105;&#116;&#121;&#46;&#111;&#114;&#103;">linda.jager@parkcity.org</a> at least 24 hours prior to the event.</em></p>        <br>
LOCATION:Park City Library\, 1255 Park Avenue Park City\, Utah 84060
CLASS:PUBLIC
END:VEVENT
END:VCALENDAR
