BEGIN:VCALENDAR
VERSION:2.0
PRODID:Park City, UT Calendar Creator
METHOD:PUBLISH
BEGIN:VEVENT
DTSTAMP:20211011T094906
DTSTART:20211014T120000
DTEND:20211014T130000
SUMMARY:Planning Department Administrative Public Hearing
DESCRIPTION:<p><a href="https://parkcity.gov/home/showpublisheddocument/70799/637686170320230000" target="_blank">10.14.2021 Legal Notice</a></p><p><a href="https://granicus_production_attachments.s3.amazonaws.com/parkcity/3cc72d0934dc236c4b5d9e02ca6eb0490.pdf" target="_blank">10.14.2021 Agenda</a></p><p><a href="https://d3n9y02raazwpg.cloudfront.net/parkcity/4bb78856-17ee-11ec-9f1e-0050569183fa-a3c3bd95-7a61-46ba-b25a-d50b1b86ddcf-1633967043.pdf" target="_blank">10.14.2021 Packet</a></p><p><a href="https://d3n9y02raazwpg.cloudfront.net/parkcity/4bb78856-17ee-11ec-9f1e-0050569183fa-a3c3bd95-7a61-46ba-b25a-d50b1b86ddcf-1633967043.pdf" target="_blank">&nbsp;</a><a href="https://us02web.zoom.us/j/82328074777" target="_blank">ZOOM Meeting Link</a></p><p>Meeting ID:&nbsp; 823 2807 4777</p>
X-ALT-DESC;FMTTYPE=text/html:<p><a href="https://parkcity.gov/home/showpublisheddocument/70799/637686170320230000" target="_blank">10.14.2021 Legal Notice</a></p><p><a href="https://granicus_production_attachments.s3.amazonaws.com/parkcity/3cc72d0934dc236c4b5d9e02ca6eb0490.pdf" target="_blank">10.14.2021 Agenda</a></p><p><a href="https://d3n9y02raazwpg.cloudfront.net/parkcity/4bb78856-17ee-11ec-9f1e-0050569183fa-a3c3bd95-7a61-46ba-b25a-d50b1b86ddcf-1633967043.pdf" target="_blank">10.14.2021 Packet</a></p><p><a href="https://d3n9y02raazwpg.cloudfront.net/parkcity/4bb78856-17ee-11ec-9f1e-0050569183fa-a3c3bd95-7a61-46ba-b25a-d50b1b86ddcf-1633967043.pdf" target="_blank">&nbsp;</a><a href="https://us02web.zoom.us/j/82328074777" target="_blank">ZOOM Meeting Link</a></p><p>Meeting ID:&nbsp; 823 2807 4777</p>
LOCATION:
CLASS:PUBLIC
END:VEVENT
END:VCALENDAR
