BEGIN:VCALENDAR
VERSION:2.0
PRODID:Park City, UT Calendar Creator
METHOD:PUBLISH
BEGIN:VEVENT
DTSTAMP:20211028T102011
DTSTART:20211028T120000
DTEND:20211028T130000
SUMMARY:Planning Department Administrative Public Hearing
DESCRIPTION:<p><a href="https://parkcity.gov/home/showpublisheddocument/70865/637698283254430000" target="_blank">Legal Notice 10.28.2021</a></p><p><a href="https://granicus_production_attachments.s3.amazonaws.com/parkcity/a84f25c517f8c4935a174ad8bedc684b0.pdf" target="_blank">Agenda 10.28.2021</a></p><p><a href="https://d3n9y02raazwpg.cloudfront.net/parkcity/187dfbf0-26c4-11ec-88a7-0050569183fa-a3c3bd95-7a61-46ba-b25a-d50b1b86ddcf-1635437734.pdf" target="_blank"></a><a href="https://d3n9y02raazwpg.cloudfront.net/parkcity/187dfbf0-26c4-11ec-88a7-0050569183fa-a3c3bd95-7a61-46ba-b25a-d50b1b86ddcf-1635437734.pdf" target="_blank">Packet 10.28.2021</a></p><p><a href="https://parkcity.gov/home/showpublisheddocument/70865/637698283254430000" target="_blank"></a><a href="https://us02web.zoom.us/j/88607837310" target="_blank">Zoom Meeting Link</a></p><p>Meeting ID:&nbsp;&nbsp;886 0783 7310</p>
X-ALT-DESC;FMTTYPE=text/html:<p><a href="https://parkcity.gov/home/showpublisheddocument/70865/637698283254430000" target="_blank">Legal Notice 10.28.2021</a></p><p><a href="https://granicus_production_attachments.s3.amazonaws.com/parkcity/a84f25c517f8c4935a174ad8bedc684b0.pdf" target="_blank">Agenda 10.28.2021</a></p><p><a href="https://d3n9y02raazwpg.cloudfront.net/parkcity/187dfbf0-26c4-11ec-88a7-0050569183fa-a3c3bd95-7a61-46ba-b25a-d50b1b86ddcf-1635437734.pdf" target="_blank"></a><a href="https://d3n9y02raazwpg.cloudfront.net/parkcity/187dfbf0-26c4-11ec-88a7-0050569183fa-a3c3bd95-7a61-46ba-b25a-d50b1b86ddcf-1635437734.pdf" target="_blank">Packet 10.28.2021</a></p><p><a href="https://parkcity.gov/home/showpublisheddocument/70865/637698283254430000" target="_blank"></a><a href="https://us02web.zoom.us/j/88607837310" target="_blank">Zoom Meeting Link</a></p><p>Meeting ID:&nbsp;&nbsp;886 0783 7310</p>
LOCATION:
CLASS:PUBLIC
END:VEVENT
END:VCALENDAR
