BEGIN:VCALENDAR
VERSION:2.0
PRODID:Park City, UT Calendar Creator
METHOD:PUBLISH
BEGIN:VEVENT
DTSTAMP:20211122T083138
DTSTART:20211118T120000
DTEND:20211118T130000
SUMMARY:Planning Department Administrative Public Hearing
DESCRIPTION:<p><a href="https://parkcity.gov/home/showpublisheddocument/70964/637715355330000000" target="_blank">11.18.2021 Legal Notice</a></p><p><a href="https://granicus_production_attachments.s3.amazonaws.com/parkcity/4fbde4d94d3142fb8f1359a92c72f0c60.pdf" target="_blank">11.18.2021 Agenda</a></p><p><a href="https://d3n9y02raazwpg.cloudfront.net/parkcity/4d1c0aa1-3744-11ec-88a7-0050569183fa-a3c3bd95-7a61-46ba-b25a-d50b1b86ddcf-1637161039.pdf" target="_blank">11.18.2021 Packet</a></p><p><a href="https://us02web.zoom.us/j/82680813019" target="_blank">ZOOM Meeting Link</a></p><p>Meeting ID:&nbsp;&nbsp;826 8081 3019</p>
X-ALT-DESC;FMTTYPE=text/html:<p><a href="https://parkcity.gov/home/showpublisheddocument/70964/637715355330000000" target="_blank">11.18.2021 Legal Notice</a></p><p><a href="https://granicus_production_attachments.s3.amazonaws.com/parkcity/4fbde4d94d3142fb8f1359a92c72f0c60.pdf" target="_blank">11.18.2021 Agenda</a></p><p><a href="https://d3n9y02raazwpg.cloudfront.net/parkcity/4d1c0aa1-3744-11ec-88a7-0050569183fa-a3c3bd95-7a61-46ba-b25a-d50b1b86ddcf-1637161039.pdf" target="_blank">11.18.2021 Packet</a></p><p><a href="https://us02web.zoom.us/j/82680813019" target="_blank">ZOOM Meeting Link</a></p><p>Meeting ID:&nbsp;&nbsp;826 8081 3019</p>
LOCATION:
CLASS:PUBLIC
END:VEVENT
END:VCALENDAR
