BEGIN:VCALENDAR
VERSION:2.0
PRODID:Park City, UT Calendar Creator
METHOD:PUBLISH
BEGIN:VEVENT
DTSTAMP:20211103T161709
DTSTART:20211110T100000
DTEND:20211110T110000
SUMMARY:DEI Special Services Contracts Workshop (online)
DESCRIPTION:<div data-tid="messageBodyContainer"><div data-tid="messageBodyContent"><div><div> </div><div><p>The&nbsp;City is now accepting applications for Special Service Contracts focused on Diversity, Equity, and Inclusion (DEI).&nbsp;These&nbsp;contracts&nbsp;are geared toward non-profit organizations that&nbsp;cultivate a community&nbsp;engaged in&nbsp;diverse perspectives, differing ideas, and individuals from different backgrounds.&nbsp;Funding will be prioritized for new or expanded projects with a focus on DEI.&nbsp;</p><p><strong>An informational application workshop will be held on Wednesday, November 10th at 10:00 am via Zoom.</strong> </p><ul>    <li><a href="https://us02web.zoom.us/j/83806614422" target="_blank">Zoom Workshop Link</a></li></ul><ul>    <li><a href="https://parkcity.gov/home/showpublisheddocument/70946/637711065071470000" target="_blank">Link to Application&nbsp;</a></li></ul><p>This workshop will be recorded and a link made available to interested applicants. For questions, contact&nbsp;Kirsten Darrington at&nbsp;<a href="mailto:kirsten.darrington@parkcity.org" title="mailto:&#107;&#105;&#114;&#115;&#116;&#101;&#110;&#46;&#100;&#97;&#114;&#114;&#105;&#110;&#103;&#116;&#111;&#110;&#64;&#112;&#97;&#114;&#107;&#99;&#105;&#116;&#121;&#46;&#111;&#114;&#103;"><u>kirsten.darrington@parkcity.org</u></a>&nbsp;or call&nbsp;(435) 615-5182.&nbsp;&nbsp;</p></div></div></div></div>
X-ALT-DESC;FMTTYPE=text/html:<div data-tid="messageBodyContainer"><div data-tid="messageBodyContent"><div><div> </div><div><p>The&nbsp;City is now accepting applications for Special Service Contracts focused on Diversity, Equity, and Inclusion (DEI).&nbsp;These&nbsp;contracts&nbsp;are geared toward non-profit organizations that&nbsp;cultivate a community&nbsp;engaged in&nbsp;diverse perspectives, differing ideas, and individuals from different backgrounds.&nbsp;Funding will be prioritized for new or expanded projects with a focus on DEI.&nbsp;</p><p><strong>An informational application workshop will be held on Wednesday, November 10th at 10:00 am via Zoom.</strong> </p><ul>    <li><a href="https://us02web.zoom.us/j/83806614422" target="_blank">Zoom Workshop Link</a></li></ul><ul>    <li><a href="https://parkcity.gov/home/showpublisheddocument/70946/637711065071470000" target="_blank">Link to Application&nbsp;</a></li></ul><p>This workshop will be recorded and a link made available to interested applicants. For questions, contact&nbsp;Kirsten Darrington at&nbsp;<a href="mailto:kirsten.darrington@parkcity.org" title="mailto:&#107;&#105;&#114;&#115;&#116;&#101;&#110;&#46;&#100;&#97;&#114;&#114;&#105;&#110;&#103;&#116;&#111;&#110;&#64;&#112;&#97;&#114;&#107;&#99;&#105;&#116;&#121;&#46;&#111;&#114;&#103;"><u>kirsten.darrington@parkcity.org</u></a>&nbsp;or call&nbsp;(435) 615-5182.&nbsp;&nbsp;</p></div></div></div></div>
LOCATION:
CLASS:PUBLIC
END:VEVENT
END:VCALENDAR
