BEGIN:VCALENDAR
VERSION:2.0
PRODID:Park City, UT Calendar Creator
METHOD:PUBLISH
BEGIN:VEVENT
DTSTAMP:20220114T162901
DTSTART:20220119T173000
DTEND:20220119T213000
SUMMARY:Planning Commission - Meeting Cancelled
DESCRIPTION:<p>MEETING CANCELLED</p><p><a href="https://parkcity.gov/home/showpublisheddocument/71446/637777744030670000" target="_blank">01.19.2022 Legal Notice Amended</a></p>
X-ALT-DESC;FMTTYPE=text/html:<p>MEETING CANCELLED</p><p><a href="https://parkcity.gov/home/showpublisheddocument/71446/637777744030670000" target="_blank">01.19.2022 Legal Notice Amended</a></p>
LOCATION:
CLASS:PUBLIC
END:VEVENT
END:VCALENDAR
