BEGIN:VCALENDAR
VERSION:2.0
PRODID:Park City, UT Calendar Creator
METHOD:PUBLISH
BEGIN:VEVENT
DTSTAMP:20211206T113427
DTSTART:20211222T173000
DTEND:20211222T173000
SUMMARY:Planning Commission Meeting Cancelled
DESCRIPTION:<a href="https://parkcity.gov/home/showpublisheddocument/71298/637743872583900000" target="_blank">12.22.2021 Legal Notice</a>
X-ALT-DESC;FMTTYPE=text/html:<a href="https://parkcity.gov/home/showpublisheddocument/71298/637743872583900000" target="_blank">12.22.2021 Legal Notice</a>
LOCATION:
CLASS:PUBLIC
END:VEVENT
END:VCALENDAR
