BEGIN:VCALENDAR
VERSION:2.0
PRODID:Park City, UT Calendar Creator
METHOD:PUBLISH
BEGIN:VEVENT
DTSTAMP:20220523T112835
DTSTART:20220627T130000
DTEND:20220627T170000
SUMMARY:Meet Up with the Mayor
DESCRIPTION:<p><b>Mayor Nann Worel Launches ‘Meet Up with the Mayor’&nbsp;</b>&nbsp;</p><p>Mayor Nann Worel invites Park City residents and business owners to join her for one-on-one conversations to their share thoughts, community concerns, or just to catch up. </p><p>Appointments can be made through <a href="leah.langan@parkcity.org" target="_blank">leah.langan@parkcity.org</a> or by calling 435-615-5184.&nbsp;</p><p>&nbsp;</p><br>
X-ALT-DESC;FMTTYPE=text/html:<p><b>Mayor Nann Worel Launches ‘Meet Up with the Mayor’&nbsp;</b>&nbsp;</p><p>Mayor Nann Worel invites Park City residents and business owners to join her for one-on-one conversations to their share thoughts, community concerns, or just to catch up. </p><p>Appointments can be made through <a href="leah.langan@parkcity.org" target="_blank">leah.langan@parkcity.org</a> or by calling 435-615-5184.&nbsp;</p><p>&nbsp;</p><br>
LOCATION:City Hall\, Third Floor\, 
CLASS:PUBLIC
END:VEVENT
END:VCALENDAR
