BEGIN:VCALENDAR
VERSION:2.0
PRODID:Park City, UT Calendar Creator
METHOD:PUBLISH
BEGIN:VEVENT
DTSTAMP:20220616T133531
DTSTART:20220630T120000
DTEND:20220630T130000
SUMMARY:Administrative Public Hearing
DESCRIPTION:<a href="https://parkcity.gov/home/showpublisheddocument/72328/637909831622500000" target="_blank">06.30.2022 <em>Administrative Public Hearing</em>&nbsp;Notice</a>
X-ALT-DESC;FMTTYPE=text/html:<a href="https://parkcity.gov/home/showpublisheddocument/72328/637909831622500000" target="_blank">06.30.2022 <em>Administrative Public Hearing</em>&nbsp;Notice</a>
LOCATION:
CLASS:PUBLIC
END:VEVENT
END:VCALENDAR
