BEGIN:VCALENDAR
VERSION:2.0
PRODID:Park City, UT Calendar Creator
METHOD:PUBLISH
BEGIN:VEVENT
DTSTAMP:20220719T151527
DTSTART:20220728T120000
DTEND:20220728T130000
SUMMARY:Administrative Public Hearing
DESCRIPTION:<a href="https://parkcity.gov/home/showpublisheddocument/72424/637938405227370000" target="_blank">07.28.2022 - Legal Notice</a><p>The Planning Department of Park City, Utah will hold a Public Hearing with an anchor location for public participation at the Marsac Municipal Building, Planning Department Conference Room, 445 Marsac Avenue, Park City, Utah 84060 on Thursday, June 28, 2022.<br>Members of the public may attend in person or participate electronically. Public comments will also be accepted virtually. To comment virtually, use eComment or raise your hand on Zoom through www.parkcity.org.</p>
X-ALT-DESC;FMTTYPE=text/html:<a href="https://parkcity.gov/home/showpublisheddocument/72424/637938405227370000" target="_blank">07.28.2022 - Legal Notice</a><p>The Planning Department of Park City, Utah will hold a Public Hearing with an anchor location for public participation at the Marsac Municipal Building, Planning Department Conference Room, 445 Marsac Avenue, Park City, Utah 84060 on Thursday, June 28, 2022.<br>Members of the public may attend in person or participate electronically. Public comments will also be accepted virtually. To comment virtually, use eComment or raise your hand on Zoom through www.parkcity.org.</p>
LOCATION:
CLASS:PUBLIC
END:VEVENT
END:VCALENDAR
