BEGIN:VCALENDAR
VERSION:2.0
PRODID:Park City, UT Calendar Creator
METHOD:PUBLISH
BEGIN:VEVENT
DTSTAMP:20220727T102700
DTSTART:20220919T130000
DTEND:20220919T170000
SUMMARY:Meet Up with the Mayor
DESCRIPTION:<p><b>Meet with the Mayor Appointments Available</b>&nbsp;</p><p>Mayor&nbsp;Nann Worel&nbsp;invites Park City residents and business owners to join her for one-on-one conversations to share thoughts, community concerns, or just to catch&nbsp;up.&nbsp;</p><p>Schedule your visit today, contact <a href="mailto:&#109;&#97;&#114;&#105;&#115;&#115;&#97;&#46;&#109;&#97;&#114;&#108;&#101;&#97;&#117;&#64;&#112;&#97;&#114;&#107;&#99;&#105;&#116;&#121;&#46;&#111;&#114;&#103;">marissa.marleau@parkcity.org</a> or call 435-615-5184.&nbsp;</p><p>Available Dates:&nbsp;</p><ul>    <li>July 27, 10:00 a.m.-2:00 p.m.</li>    <li>August 4, 1:00-5:00 p.m.</li>    <li>August 24, 10:00 a.m.-2:00 p.m.</li>    <li>September 19, 1:00 p.m.-5:00 p.m.</li></ul><br>
X-ALT-DESC;FMTTYPE=text/html:<p><b>Meet with the Mayor Appointments Available</b>&nbsp;</p><p>Mayor&nbsp;Nann Worel&nbsp;invites Park City residents and business owners to join her for one-on-one conversations to share thoughts, community concerns, or just to catch&nbsp;up.&nbsp;</p><p>Schedule your visit today, contact <a href="mailto:&#109;&#97;&#114;&#105;&#115;&#115;&#97;&#46;&#109;&#97;&#114;&#108;&#101;&#97;&#117;&#64;&#112;&#97;&#114;&#107;&#99;&#105;&#116;&#121;&#46;&#111;&#114;&#103;">marissa.marleau@parkcity.org</a> or call 435-615-5184.&nbsp;</p><p>Available Dates:&nbsp;</p><ul>    <li>July 27, 10:00 a.m.-2:00 p.m.</li>    <li>August 4, 1:00-5:00 p.m.</li>    <li>August 24, 10:00 a.m.-2:00 p.m.</li>    <li>September 19, 1:00 p.m.-5:00 p.m.</li></ul><br>
LOCATION:City Hall - Executive Conference Room\, 445 Marsac Avenue\, 3rd Floor Park City\, Utah 84060
CLASS:PUBLIC
END:VEVENT
END:VCALENDAR
