BEGIN:VCALENDAR
VERSION:2.0
PRODID:Park City, UT Calendar Creator
METHOD:PUBLISH
BEGIN:VEVENT
DTSTAMP:20220810T155404
DTSTART:20220818T190000
DTEND:20220818T203000
SUMMARY:Community Wildfire Risk Assessment Virtual Open House
DESCRIPTION:<h2 id="community-wildfire-risk-assessment-virtual-open-house-2">Community Wildfire Risk Assessment Virtual Open House</h2><div><p>Thursday, August 18 – 7:00 p.m. (Virtual)</p><p><a href="https://us02web.zoom.us/j/84767314235?pwd=NWNSWnZUZmoySUpzM0tmbDFpeWRkZz09" rel="noopener noreferrer" target="_blank">Join Zoom Meeting</a></p><p>Meeting ID: 847 6731 4235</p><p>Passcode: 368626</p><p>Over the next year, Park City Municipal and its partners will work together to complete a Wildfire Risk Assessment. This project will assess community values at risk for wildfire including neighborhoods, environmental, economic, infrastructure, erosion and other ecological concerns.&nbsp;</p><p>This public meeting is intended to share information about the project and provide opportunity for community feedback. A community survey will also be sent out at the end of the month.</p><p>Learn more about this project <a href="https://engageparkcity.org/cwra" target="_blank">here</a>.</p></div><br>
X-ALT-DESC;FMTTYPE=text/html:<h2 id="community-wildfire-risk-assessment-virtual-open-house-2">Community Wildfire Risk Assessment Virtual Open House</h2><div><p>Thursday, August 18 – 7:00 p.m. (Virtual)</p><p><a href="https://us02web.zoom.us/j/84767314235?pwd=NWNSWnZUZmoySUpzM0tmbDFpeWRkZz09" rel="noopener noreferrer" target="_blank">Join Zoom Meeting</a></p><p>Meeting ID: 847 6731 4235</p><p>Passcode: 368626</p><p>Over the next year, Park City Municipal and its partners will work together to complete a Wildfire Risk Assessment. This project will assess community values at risk for wildfire including neighborhoods, environmental, economic, infrastructure, erosion and other ecological concerns.&nbsp;</p><p>This public meeting is intended to share information about the project and provide opportunity for community feedback. A community survey will also be sent out at the end of the month.</p><p>Learn more about this project <a href="https://engageparkcity.org/cwra" target="_blank">here</a>.</p></div><br>
LOCATION:
CLASS:PUBLIC
END:VEVENT
END:VCALENDAR
