BEGIN:VCALENDAR
VERSION:2.0
PRODID:Park City, UT Calendar Creator
METHOD:PUBLISH
BEGIN:VEVENT
DTSTAMP:20220809T161605
DTSTART:20220824T170000
DTEND:20220824T183000
SUMMARY:Winter Transit Service Update Public Open House
DESCRIPTION:<p>The first snowfall of the season is just around the corner, Park City! We're proposing a variety of service changes to meet expected demand this winter. Learn more and share your comments at our open house on Wednesday, August 24 at the Park City Library. If you’d like to share your input now, visit &nbsp;<a href="http://www.engageparkcity.org/transit">www.engageparkcity.org/transit</a> and share your comments by August 31.</p><br>
X-ALT-DESC;FMTTYPE=text/html:<p>The first snowfall of the season is just around the corner, Park City! We're proposing a variety of service changes to meet expected demand this winter. Learn more and share your comments at our open house on Wednesday, August 24 at the Park City Library. If you’d like to share your input now, visit &nbsp;<a href="http://www.engageparkcity.org/transit">www.engageparkcity.org/transit</a> and share your comments by August 31.</p><br>
LOCATION:Library Community Room\, 1255 Park Avenue Park City\, Utah 84060
CLASS:PUBLIC
END:VEVENT
END:VCALENDAR
