BEGIN:VCALENDAR
VERSION:2.0
PRODID:Park City, UT Calendar Creator
METHOD:PUBLISH
BEGIN:VEVENT
DTSTAMP:20221114T082713
DTSTART:20221117T120000
DTEND:20221117T140000
SUMMARY:Administrative Public Hearing
DESCRIPTION:<p><a href="https://parkcity.gov/home/showpublisheddocument/71573/637824114281870000" target="_blank"></a><b><a href="https://www.parkcity.org/government/city-council/city-council-meetings/current-public-meeting-info-listen-live" target="_blank">Public Meetings &amp; Listen Live</a></b></p><p><b><a href="https://parkcity.gov/home/showpublisheddocument/72801/638030900208870000" target="_blank">Meeting Notice</a></b></p><p><b><a href="chrome-extension://efaidnbmnnnibpcajpcglclefindmkaj/https://d3n9y02raazwpg.cloudfront.net/parkcity/762c12f6-24c5-11ed-b1ab-0050569183fa-2fa5618d-54f3-4e3c-b330-cdc5a055bdc7-1668439238.pdf" target="_blank">Meeting Agenda Packet</a></b></p><p>Planning Department - Administrative Public Hearing - How to Watch, Listen, and Submit Public Comment Virtually:</p><ul type="disc">    <li>Listen | Watch | Submit&nbsp;eComment: Details below (Watch and Listen Live link is activated at the start of the meeting<i>)<br>    *Advance&nbsp;eComment registration&nbsp;required. Once registered, you should receive a confirmation email. Using Firefox or Microsoft Edge browsers to register is recommended.<br>    <br>    </i></li>    <li>Listen | Watch | Comment:&nbsp;Zoom Webinar&nbsp;<a href="https://us02web.zoom.us/j/83874602711">HERE</a><br>    Meeting ID:&nbsp;&nbsp;838 7460 2711<br>    (please log in using the Zoom app to submit comment)</li></ul><p>To comment virtually on Zoom - log in using the Zoom application and raise your hand.&nbsp; Written comments submitted before or during the meeting will be entered into the public record.&nbsp;<b>Viewers who wish to provide public comment must sign in using their full names.&nbsp;Anonymous comments will not be accepted.</b></p><p>Please contact&nbsp;<a href="mailto:&#106;&#101;&#115;&#115;&#105;&#99;&#97;&#46;&#110;&#101;&#108;&#115;&#111;&#110;&#64;&#112;&#97;&#114;&#107;&#99;&#105;&#116;&#121;&#46;&#111;&#114;&#103;">planning@parkcity.org</a>&nbsp;for more information.</p><p>For assistance with accessing the Zoom Webinar, please contact&nbsp;<a href="mailto:&#108;&#105;&#110;&#100;&#97;&#46;&#106;&#97;&#103;&#101;&#114;&#64;&#112;&#97;&#114;&#107;&#99;&#105;&#116;&#121;&#46;&#111;&#114;&#103;">linda.jager@parkcity.org</a>&nbsp;| 435.901.2311</p>
X-ALT-DESC;FMTTYPE=text/html:<p><a href="https://parkcity.gov/home/showpublisheddocument/71573/637824114281870000" target="_blank"></a><b><a href="https://www.parkcity.org/government/city-council/city-council-meetings/current-public-meeting-info-listen-live" target="_blank">Public Meetings &amp; Listen Live</a></b></p><p><b><a href="https://parkcity.gov/home/showpublisheddocument/72801/638030900208870000" target="_blank">Meeting Notice</a></b></p><p><b><a href="chrome-extension://efaidnbmnnnibpcajpcglclefindmkaj/https://d3n9y02raazwpg.cloudfront.net/parkcity/762c12f6-24c5-11ed-b1ab-0050569183fa-2fa5618d-54f3-4e3c-b330-cdc5a055bdc7-1668439238.pdf" target="_blank">Meeting Agenda Packet</a></b></p><p>Planning Department - Administrative Public Hearing - How to Watch, Listen, and Submit Public Comment Virtually:</p><ul type="disc">    <li>Listen | Watch | Submit&nbsp;eComment: Details below (Watch and Listen Live link is activated at the start of the meeting<i>)<br>    *Advance&nbsp;eComment registration&nbsp;required. Once registered, you should receive a confirmation email. Using Firefox or Microsoft Edge browsers to register is recommended.<br>    <br>    </i></li>    <li>Listen | Watch | Comment:&nbsp;Zoom Webinar&nbsp;<a href="https://us02web.zoom.us/j/83874602711">HERE</a><br>    Meeting ID:&nbsp;&nbsp;838 7460 2711<br>    (please log in using the Zoom app to submit comment)</li></ul><p>To comment virtually on Zoom - log in using the Zoom application and raise your hand.&nbsp; Written comments submitted before or during the meeting will be entered into the public record.&nbsp;<b>Viewers who wish to provide public comment must sign in using their full names.&nbsp;Anonymous comments will not be accepted.</b></p><p>Please contact&nbsp;<a href="mailto:&#106;&#101;&#115;&#115;&#105;&#99;&#97;&#46;&#110;&#101;&#108;&#115;&#111;&#110;&#64;&#112;&#97;&#114;&#107;&#99;&#105;&#116;&#121;&#46;&#111;&#114;&#103;">planning@parkcity.org</a>&nbsp;for more information.</p><p>For assistance with accessing the Zoom Webinar, please contact&nbsp;<a href="mailto:&#108;&#105;&#110;&#100;&#97;&#46;&#106;&#97;&#103;&#101;&#114;&#64;&#112;&#97;&#114;&#107;&#99;&#105;&#116;&#121;&#46;&#111;&#114;&#103;">linda.jager@parkcity.org</a>&nbsp;| 435.901.2311</p>
LOCATION:
CLASS:PUBLIC
END:VEVENT
END:VCALENDAR
