BEGIN:VCALENDAR
VERSION:2.0
PRODID:Park City, UT Calendar Creator
METHOD:PUBLISH
BEGIN:VEVENT
DTSTAMP:20220919T105440
DTSTART:20220922T180000
DTEND:20220922T200000
SUMMARY:Community Conversation Series - the Utah Olympic Bid
DESCRIPTION:<p>Mountain Mediation Center, in partnership with Park City Municipal and Summit County, invites the public to join their next Community Conversation Series - The Utah Olympic Bid: A Summit County Listening Project. Participants will have the opportunity to share their hopes and concerns about how a Winter Olympics in Summit County would affect our communities. Facilitated small group conversations will allow everyone’s voice to be heard. These conversations are bilingual (English/Spanish), and refreshments will be provided. This session will be held at the Summit County Library. RSVP&nbsp;<a href="https://t.e2ma.net/click/w0heli/kfhi3sv/cpfh24">here</a>.</p>
X-ALT-DESC;FMTTYPE=text/html:<p>Mountain Mediation Center, in partnership with Park City Municipal and Summit County, invites the public to join their next Community Conversation Series - The Utah Olympic Bid: A Summit County Listening Project. Participants will have the opportunity to share their hopes and concerns about how a Winter Olympics in Summit County would affect our communities. Facilitated small group conversations will allow everyone’s voice to be heard. These conversations are bilingual (English/Spanish), and refreshments will be provided. This session will be held at the Summit County Library. RSVP&nbsp;<a href="https://t.e2ma.net/click/w0heli/kfhi3sv/cpfh24">here</a>.</p>
LOCATION:
CLASS:PUBLIC
END:VEVENT
END:VCALENDAR
