BEGIN:VCALENDAR
VERSION:2.0
PRODID:Park City, UT Calendar Creator
METHOD:PUBLISH
BEGIN:VEVENT
DTSTAMP:20221006T101711
DTSTART:20221027T120000
DTEND:20221027T130000
SUMMARY:Community Conversation Series - The Utah Olympic Bid
DESCRIPTION:<p>Mountain Mediation Center, in partnership with Park City Municipal and Summit County, invites the public to join their next Community Conversation Series - The Utah Olympic Bid: A Summit County Listening Project.</p><p>Participants will have the opportunity to share their hopes and concerns about how a Winter Olympics in Summit County would affect our communities. Facilitated small group conversations will allow everyone’s voice to be heard. These conversations are bilingual (English/Spanish). Please RSVP&nbsp;<a href="https://docs.google.com/forms/d/e/1FAIpQLSdT8Qr3qsZaB43NY-vK6vZ4A1fP5eG5Y6v0-LzfZ7GaSisZcg/viewform" target="_blank">here</a>&nbsp;to attend this virtual session on Zoom.</p>
X-ALT-DESC;FMTTYPE=text/html:<p>Mountain Mediation Center, in partnership with Park City Municipal and Summit County, invites the public to join their next Community Conversation Series - The Utah Olympic Bid: A Summit County Listening Project.</p><p>Participants will have the opportunity to share their hopes and concerns about how a Winter Olympics in Summit County would affect our communities. Facilitated small group conversations will allow everyone’s voice to be heard. These conversations are bilingual (English/Spanish). Please RSVP&nbsp;<a href="https://docs.google.com/forms/d/e/1FAIpQLSdT8Qr3qsZaB43NY-vK6vZ4A1fP5eG5Y6v0-LzfZ7GaSisZcg/viewform" target="_blank">here</a>&nbsp;to attend this virtual session on Zoom.</p>
LOCATION:
CLASS:PUBLIC
END:VEVENT
END:VCALENDAR
