BEGIN:VCALENDAR
VERSION:2.0
PRODID:Park City, UT Calendar Creator
METHOD:PUBLISH
BEGIN:VEVENT
DTSTAMP:20221006T160921
DTSTART:20221011T130000
DTEND:20221011T170000
SUMMARY:Meet Up with the Mayor
DESCRIPTION:<p><b>Meet with the Mayor Appointments Available</b>&nbsp;</p><p>Mayor&nbsp;Nann Worel&nbsp;invites Park City residents and business owners to join her for one-on-one conversations to share thoughts, community concerns, or just to catch&nbsp;up.&nbsp;</p><p>Schedule your visit today, contact&nbsp;<a href="mailto:&#109;&#97;&#114;&#105;&#115;&#115;&#97;&#46;&#109;&#97;&#114;&#108;&#101;&#97;&#117;&#64;&#112;&#97;&#114;&#107;&#99;&#105;&#116;&#121;&#46;&#111;&#114;&#103;">marissa.marleau@parkcity.org</a>&nbsp;or call 435-615-5184.&nbsp;</p><p>Available Dates:&nbsp;</p><ul>    <li>Wednesday, October 19, 9:00-11:30 a.m.</li>    <li>Wednesday, November 9, 1:00-5:00 p.m.</li></ul>
X-ALT-DESC;FMTTYPE=text/html:<p><b>Meet with the Mayor Appointments Available</b>&nbsp;</p><p>Mayor&nbsp;Nann Worel&nbsp;invites Park City residents and business owners to join her for one-on-one conversations to share thoughts, community concerns, or just to catch&nbsp;up.&nbsp;</p><p>Schedule your visit today, contact&nbsp;<a href="mailto:&#109;&#97;&#114;&#105;&#115;&#115;&#97;&#46;&#109;&#97;&#114;&#108;&#101;&#97;&#117;&#64;&#112;&#97;&#114;&#107;&#99;&#105;&#116;&#121;&#46;&#111;&#114;&#103;">marissa.marleau@parkcity.org</a>&nbsp;or call 435-615-5184.&nbsp;</p><p>Available Dates:&nbsp;</p><ul>    <li>Wednesday, October 19, 9:00-11:30 a.m.</li>    <li>Wednesday, November 9, 1:00-5:00 p.m.</li></ul>
LOCATION:
CLASS:PUBLIC
END:VEVENT
END:VCALENDAR
