BEGIN:VCALENDAR
VERSION:2.0
PRODID:Park City, UT Calendar Creator
METHOD:PUBLISH
BEGIN:VEVENT
DTSTAMP:20221011T104304
DTSTART:20221011T100000
DTEND:20221011T150000
SUMMARY:Drone Operation
DESCRIPTION:<p>Drone operation at Three Kings Water Treatment Plant to monitor construction progress.&nbsp;</p><p>&nbsp;Should you have any questions or comments about the drone operations being conducted please contact us at&nbsp;Drone@parkcity.org or visit our <a href="https://www.parkcity.org/departments/gis/drone-notice/-fsiteid-1" target="_blank">notices.</a>&nbsp;</p>
X-ALT-DESC;FMTTYPE=text/html:<p>Drone operation at Three Kings Water Treatment Plant to monitor construction progress.&nbsp;</p><p>&nbsp;Should you have any questions or comments about the drone operations being conducted please contact us at&nbsp;Drone@parkcity.org or visit our <a href="https://www.parkcity.org/departments/gis/drone-notice/-fsiteid-1" target="_blank">notices.</a>&nbsp;</p>
LOCATION:Park City Golf Course\, 1541 Thaynes Canyon Park City\, Utah 84060
CLASS:PUBLIC
END:VEVENT
END:VCALENDAR
