BEGIN:VCALENDAR
VERSION:2.0
PRODID:Park City, UT Calendar Creator
METHOD:PUBLISH
BEGIN:VEVENT
DTSTAMP:20221024T150023
DTSTART:20221109T100000
DTEND:20221109T110000
SUMMARY:Honoring our Local Veterans and their Stories of Service
DESCRIPTION:<h2>Honoring our Local Veterans and their Stories of Service&nbsp;&nbsp;</h2><p>Wednesday, November 9, 2022 | 10:00 a.m. - 11:00 a.m.&nbsp;</p><p>Please join Mayor – and Veteran&nbsp;-&nbsp; Nann&nbsp;Worel for a virtual discussion with a panel of local Veterans who will share their stories of service in commemoration of Veterans Day. Participate via Facebook Live or Zoom Webinar <a aria-label="Link https://us02web.zoom.us/j/83890059380" title="https://us02web.zoom.us/j/83890059380" href="https://us02web.zoom.us/j/83890059380" rel="noopener noreferrer" target="_blank" tabindex="-1">(https://us02web.zoom.us/j/83890059380</a>).&nbsp; Can’t join us live? Please share your messages of thanks for our panel of Veterans in advance via email to&nbsp;<a aria-label="Link linda.jager@parkcity.org" title="mailto:linda.jager@parkcity.org" href="mailto:linda.jager@parkcity.org" rel="noopener noreferrer" target="_blank" tabindex="-1">linda.jager@parkcity.org</a>. </p><br>
X-ALT-DESC;FMTTYPE=text/html:<h2>Honoring our Local Veterans and their Stories of Service&nbsp;&nbsp;</h2><p>Wednesday, November 9, 2022 | 10:00 a.m. - 11:00 a.m.&nbsp;</p><p>Please join Mayor – and Veteran&nbsp;-&nbsp; Nann&nbsp;Worel for a virtual discussion with a panel of local Veterans who will share their stories of service in commemoration of Veterans Day. Participate via Facebook Live or Zoom Webinar <a aria-label="Link https://us02web.zoom.us/j/83890059380" title="https://us02web.zoom.us/j/83890059380" href="https://us02web.zoom.us/j/83890059380" rel="noopener noreferrer" target="_blank" tabindex="-1">(https://us02web.zoom.us/j/83890059380</a>).&nbsp; Can’t join us live? Please share your messages of thanks for our panel of Veterans in advance via email to&nbsp;<a aria-label="Link linda.jager@parkcity.org" title="mailto:linda.jager@parkcity.org" href="mailto:linda.jager@parkcity.org" rel="noopener noreferrer" target="_blank" tabindex="-1">linda.jager@parkcity.org</a>. </p><br>
LOCATION:
CLASS:PUBLIC
END:VEVENT
END:VCALENDAR
