BEGIN:VCALENDAR
VERSION:2.0
PRODID:Park City, UT Calendar Creator
METHOD:PUBLISH
BEGIN:VEVENT
DTSTAMP:20221024T150420
DTSTART:20221027T120000
DTEND:20221027T170000
SUMMARY:Drone Operation
DESCRIPTION:<p>&nbsp;Rossi Hill - Road construction is underway, and the city needs to monitor the progress.</p><p>&nbsp;</p><p>Should you have any questions or comments about the drone operations being conducted please contact us at&nbsp;Drone@parkcity.org.</p>
X-ALT-DESC;FMTTYPE=text/html:<p>&nbsp;Rossi Hill - Road construction is underway, and the city needs to monitor the progress.</p><p>&nbsp;</p><p>Should you have any questions or comments about the drone operations being conducted please contact us at&nbsp;Drone@parkcity.org.</p>
LOCATION:
CLASS:PUBLIC
END:VEVENT
END:VCALENDAR
