BEGIN:VCALENDAR
VERSION:2.0
PRODID:Park City, UT Calendar Creator
METHOD:PUBLISH
BEGIN:VEVENT
DTSTAMP:20221107T152154
DTSTART:20221114T140000
DTEND:20221114T160000
SUMMARY:Live Park City Lite Deed Office Hours
DESCRIPTION:<div ltr="" scxw172392343="" bcx9"=""><p scxw172392343="" bcx9"="">Do you have questions regarding Live Park City, a lite deed restriction program geared towards promoting full-time residency in our community? Join Browne Sebright, the City's Housing Program Manager, for open office hours to find answers to all your questions about how the program works for residential properties in 84060!&nbsp;</p></div><div bcx9"=""><div ltr="" scxw172392343="" bcx9"=""><p scxw172392343="" bcx9"="">Park City Library, North Conference Room (2nd floor)&nbsp;</p></div><div scxw172392343="" bcx9"=""><ul scxw172392343="" bcx9"="" role="list">    <li data-leveltext="" data-font="Symbol" aria-setsize="-1" data-aria-posinset="1" role="listitem" data-aria-level="1" ltr="" scxw172392343="" bcx9"="">    <p scxw172392343="" bcx9"="">Monday, November 14 | 2:00-4:00 p.m.&nbsp;</p>    </li>    <li data-leveltext="" data-font="Symbol" aria-setsize="-1" data-aria-posinset="2" role="listitem" data-aria-level="1" ltr="" scxw172392343="" bcx9"="">    <p scxw172392343="" bcx9"="">Tuesday, November 15 | 5:00-7:00 p.m.&nbsp;</p>    </li></ul></div><div ltr="" scxw172392343="" bcx9"=""><p scxw172392343="" bcx9"=""><em>No appointment needed.</em>&nbsp;</p></div><div ltr="" scxw172392343="" bcx9"=""><p scxw172392343="" bcx9"="">To learn more about the program: <a scxw172392343="" bcx9"="" href="https://www.parkcity.org/departments/live-park-city" target="_blank" rel="noreferrer noopener">https://www.parkcity.org/departments/live-park-city</a>&nbsp;</p></div></div><div ltr="" scxw172392343="" bcx9"=""><p scxw172392343="" bcx9"="">Questions? Contact <a scxw172392343="" bcx9"="" href="mailto:browne.sebright@parkcity.org" target="_blank" rel="noreferrer noopener">browne.sebright@parkcity.org</a>&nbsp;&nbsp;</p></div><br>
X-ALT-DESC;FMTTYPE=text/html:<div ltr="" scxw172392343="" bcx9"=""><p scxw172392343="" bcx9"="">Do you have questions regarding Live Park City, a lite deed restriction program geared towards promoting full-time residency in our community? Join Browne Sebright, the City's Housing Program Manager, for open office hours to find answers to all your questions about how the program works for residential properties in 84060!&nbsp;</p></div><div bcx9"=""><div ltr="" scxw172392343="" bcx9"=""><p scxw172392343="" bcx9"="">Park City Library, North Conference Room (2nd floor)&nbsp;</p></div><div scxw172392343="" bcx9"=""><ul scxw172392343="" bcx9"="" role="list">    <li data-leveltext="" data-font="Symbol" aria-setsize="-1" data-aria-posinset="1" role="listitem" data-aria-level="1" ltr="" scxw172392343="" bcx9"="">    <p scxw172392343="" bcx9"="">Monday, November 14 | 2:00-4:00 p.m.&nbsp;</p>    </li>    <li data-leveltext="" data-font="Symbol" aria-setsize="-1" data-aria-posinset="2" role="listitem" data-aria-level="1" ltr="" scxw172392343="" bcx9"="">    <p scxw172392343="" bcx9"="">Tuesday, November 15 | 5:00-7:00 p.m.&nbsp;</p>    </li></ul></div><div ltr="" scxw172392343="" bcx9"=""><p scxw172392343="" bcx9"=""><em>No appointment needed.</em>&nbsp;</p></div><div ltr="" scxw172392343="" bcx9"=""><p scxw172392343="" bcx9"="">To learn more about the program: <a scxw172392343="" bcx9"="" href="https://www.parkcity.org/departments/live-park-city" target="_blank" rel="noreferrer noopener">https://www.parkcity.org/departments/live-park-city</a>&nbsp;</p></div></div><div ltr="" scxw172392343="" bcx9"=""><p scxw172392343="" bcx9"="">Questions? Contact <a scxw172392343="" bcx9"="" href="mailto:browne.sebright@parkcity.org" target="_blank" rel="noreferrer noopener">browne.sebright@parkcity.org</a>&nbsp;&nbsp;</p></div><br>
LOCATION:Park City Library\, 1255 Park Avenue Park City\, Utah 84060
CLASS:PUBLIC
END:VEVENT
END:VCALENDAR
