BEGIN:VCALENDAR
VERSION:2.0
PRODID:Park City, UT Calendar Creator
METHOD:PUBLISH
BEGIN:VEVENT
DTSTAMP:20210922T091132
DTSTART:20210916T120000
DTEND:20210916T125900
SUMMARY:Planning Department Administrative Public Hearing
DESCRIPTION:<p><a href="https://parkcity.gov/home/showpublisheddocument/70708/637672349740730000" target="_blank">09.16.2021 - Legal Notice</a></p><p><a href="https://parkcity.gov/home/showpublisheddocument/70757/637678985820930000" target="_blank">09.16.2021 - Agenda</a></p><p><a href="https://parkcity.gov/home/showpublisheddocument/70759/637678986762900000" target="_blank">09.16.2021 - Packet</a></p><p><a href="https://us02web.zoom.us/j/85696949319" target="_blank">Zoom Meeting Link</a></p><p>Meeting ID:&nbsp;856 9694 9319</p>
X-ALT-DESC;FMTTYPE=text/html:<p><a href="https://parkcity.gov/home/showpublisheddocument/70708/637672349740730000" target="_blank">09.16.2021 - Legal Notice</a></p><p><a href="https://parkcity.gov/home/showpublisheddocument/70757/637678985820930000" target="_blank">09.16.2021 - Agenda</a></p><p><a href="https://parkcity.gov/home/showpublisheddocument/70759/637678986762900000" target="_blank">09.16.2021 - Packet</a></p><p><a href="https://us02web.zoom.us/j/85696949319" target="_blank">Zoom Meeting Link</a></p><p>Meeting ID:&nbsp;856 9694 9319</p>
LOCATION:
CLASS:PUBLIC
END:VEVENT
END:VCALENDAR
